BEGIN:VCALENDAR
VERSION:2.0
PRODID:-//Gemeinschaftswerk Arbeit und Umwelt - ECPv6.15.20//NONSGML v1.0//EN
CALSCALE:GREGORIAN
METHOD:PUBLISH
X-ORIGINAL-URL:https://gemeinschaftswerk-mannheim.de
X-WR-CALDESC:Veranstaltungen für Gemeinschaftswerk Arbeit und Umwelt
REFRESH-INTERVAL;VALUE=DURATION:PT1H
X-Robots-Tag:noindex
X-PUBLISHED-TTL:PT1H
BEGIN:VTIMEZONE
TZID:Europe/Berlin
BEGIN:DAYLIGHT
TZOFFSETFROM:+0100
TZOFFSETTO:+0200
TZNAME:CEST
DTSTART:20240331T010000
END:DAYLIGHT
BEGIN:STANDARD
TZOFFSETFROM:+0200
TZOFFSETTO:+0100
TZNAME:CET
DTSTART:20241027T010000
END:STANDARD
BEGIN:DAYLIGHT
TZOFFSETFROM:+0100
TZOFFSETTO:+0200
TZNAME:CEST
DTSTART:20250330T010000
END:DAYLIGHT
BEGIN:STANDARD
TZOFFSETFROM:+0200
TZOFFSETTO:+0100
TZNAME:CET
DTSTART:20251026T010000
END:STANDARD
BEGIN:DAYLIGHT
TZOFFSETFROM:+0100
TZOFFSETTO:+0200
TZNAME:CEST
DTSTART:20260329T010000
END:DAYLIGHT
BEGIN:STANDARD
TZOFFSETFROM:+0200
TZOFFSETTO:+0100
TZNAME:CET
DTSTART:20261025T010000
END:STANDARD
BEGIN:DAYLIGHT
TZOFFSETFROM:+0100
TZOFFSETTO:+0200
TZNAME:CEST
DTSTART:20270328T010000
END:DAYLIGHT
BEGIN:STANDARD
TZOFFSETFROM:+0200
TZOFFSETTO:+0100
TZNAME:CET
DTSTART:20271031T010000
END:STANDARD
END:VTIMEZONE
BEGIN:VEVENT
DTSTART;TZID=Europe/Berlin:20260425T100000
DTEND;TZID=Europe/Berlin:20260425T170000
DTSTAMP:20260425T193350
CREATED:20250228T195348Z
LAST-MODIFIED:20251124T093357Z
UID:10000007-1777111200-1777136400@gemeinschaftswerk-mannheim.de
SUMMARY:Botanik- und Kräuterausbildung Teil 2
DESCRIPTION:Kursleitung: Markus Schrade\nAnmeldung und weiter Informationen: https://www.kräuterwanderung-mannheim.de
URL:https://gemeinschaftswerk-mannheim.de/event/botanik-und-kraeuterausbildung-teil-2/
ORGANIZER;CN="Gemeinschaftswerk Arbeit und Umwelt e.V. Mannheim":MAILTO:info@gemeinschaftswerk-mannheim.de
END:VEVENT
BEGIN:VEVENT
DTSTART;TZID=Europe/Berlin:20260411T100000
DTEND;TZID=Europe/Berlin:20260411T170000
DTSTAMP:20260425T193350
CREATED:20250228T195010Z
LAST-MODIFIED:20251124T093240Z
UID:10000006-1775901600-1775926800@gemeinschaftswerk-mannheim.de
SUMMARY:Botanik- und Kräuterausbildung Teil 1
DESCRIPTION:Kursleitung: Markus Schrade\nAnmeldung und weiter Informationen: https://www.kräuterwanderung-mannheim.de
URL:https://gemeinschaftswerk-mannheim.de/event/botanik-und-kraeuterausbildung-teil-1/
ORGANIZER;CN="Gemeinschaftswerk Arbeit und Umwelt e.V. Mannheim":MAILTO:info@gemeinschaftswerk-mannheim.de
END:VEVENT
BEGIN:VEVENT
DTSTART;TZID=Europe/Berlin:20260404T100000
DTEND;TZID=Europe/Berlin:20260404T123000
DTSTAMP:20260425T193350
CREATED:20250228T194832Z
LAST-MODIFIED:20251124T091151Z
UID:10000005-1775296800-1775305800@gemeinschaftswerk-mannheim.de
SUMMARY:Kräuterführung Nr. 1
DESCRIPTION:Kursleitung: Markus Schrade\nAnmeldung und weiter Informationen: https://www.kräuterwanderung-mannheim.de
URL:https://gemeinschaftswerk-mannheim.de/event/kraeuterfuehrung-nr-1/
ORGANIZER;CN="Gemeinschaftswerk Arbeit und Umwelt e.V. Mannheim":MAILTO:info@gemeinschaftswerk-mannheim.de
END:VEVENT
BEGIN:VEVENT
DTSTART;TZID=Europe/Berlin:20260402T100000
DTEND;TZID=Europe/Berlin:20260402T153000
DTSTAMP:20260425T193350
CREATED:20250228T194151Z
LAST-MODIFIED:20251124T090625Z
UID:10000003-1775124000-1775143800@gemeinschaftswerk-mannheim.de
SUMMARY:Pflanzendoktor
DESCRIPTION:Sprechstunde des Pflanzendoktors:\nDer langjährige Leiter des Lehrgartens Agraringenieur Werner Meier-Büermann gibt Ratschläge zur Behandlung erkrankter Pflanzen\, Tipps zu Pflanzung und Pflege.
URL:https://gemeinschaftswerk-mannheim.de/event/pflanzendoktor/
ORGANIZER;CN="Gemeinschaftswerk Arbeit und Umwelt e.V. Mannheim":MAILTO:info@gemeinschaftswerk-mannheim.de
END:VEVENT
BEGIN:VEVENT
DTSTART;TZID=Europe/Berlin:20260215T103000
DTEND;TZID=Europe/Berlin:20260215T150000
DTSTAMP:20260425T193350
CREATED:20251124T090217Z
LAST-MODIFIED:20251124T090217Z
UID:10000031-1771151400-1771167600@gemeinschaftswerk-mannheim.de
SUMMARY:LehrgartenZukunft gemeinsam gestalten: Schnitt der Kopfweiden (Projekttag)
DESCRIPTION:
URL:https://gemeinschaftswerk-mannheim.de/event/lehrgartenzukunft-gemeinsam-gestalten-schnitt-der-kopfweiden-projekttag/
END:VEVENT
BEGIN:VEVENT
DTSTART;TZID=Europe/Berlin:20260214T103000
DTEND;TZID=Europe/Berlin:20260214T153000
DTSTAMP:20260425T193350
CREATED:20250228T193531Z
LAST-MODIFIED:20251124T084413Z
UID:10000001-1771065000-1771083000@gemeinschaftswerk-mannheim.de
SUMMARY:Salben Workshop
DESCRIPTION:Kursleitung: Markus Schrade\nAnmeldung und weiter Informationen: https://www.kräuterwanderung-mannheim.de
URL:https://gemeinschaftswerk-mannheim.de/event/salben-workshop/
ORGANIZER;CN="Gemeinschaftswerk Arbeit und Umwelt e.V. Mannheim":MAILTO:info@gemeinschaftswerk-mannheim.de
END:VEVENT
BEGIN:VEVENT
DTSTART;TZID=Europe/Berlin:20260125T103000
DTEND;TZID=Europe/Berlin:20260125T150000
DTSTAMP:20260425T193350
CREATED:20250228T193922Z
LAST-MODIFIED:20251201T102312Z
UID:10000002-1769337000-1769353200@gemeinschaftswerk-mannheim.de
SUMMARY:LehrgartenZukunft gemeinsam gestalten: Schilf-Ernte (Projekttag)
DESCRIPTION:Am Sonntag\, 25.01.26 10:30 – 15 :00 Uhr ist die Schilf-Ernte geplant: von Hand\, mit Gartenscheren und Bündel für Bündel\, da die Halme möglichst unbeschädigt als Baumaterial für spätere Projekte wie beispielsweise ein Witterungsschutz für die Hühner Verwendung finden sollen. Wenn vorhanden\, sind hierbei Gummistiefel und eventuell eigene Gartenscheren sehr sinnvoll. \nNatürlich sind Kinder immer herzlich willkommen! Für eine kleine Mittagspause bieten wir Getränke und selbstgebackenes Brot an\, bedanken uns aber auch über ein Mitbringsel zum gemeinsamen Buffet. Haben wir dein Interesse geweckt? Wir freuen uns auf dich und euch!\nFragen / Anmeldung an Raphael Schmidt: mail an: lehrgarten [at] gemeinschaftswerk-mannheim [dot] de
URL:https://gemeinschaftswerk-mannheim.de/event/lehrgartenzukunft-gemeinsam-gestalten-projekttag/
ORGANIZER;CN="Gemeinschaftswerk Arbeit und Umwelt e.V. Mannheim":MAILTO:info@gemeinschaftswerk-mannheim.de
END:VEVENT
BEGIN:VEVENT
DTSTART;TZID=Europe/Berlin:20251018T130000
DTEND;TZID=Europe/Berlin:20251018T170000
DTSTAMP:20260425T193350
CREATED:20250228T203256Z
LAST-MODIFIED:20250915T101423Z
UID:10000029-1760792400-1760806800@gemeinschaftswerk-mannheim.de
SUMMARY:Tag der offenen Garten-Tür
DESCRIPTION:Der Lehrgarten stellt sich vor mit verschiedenen Angeboten für große und kleine Gäste.\nFür das leibliche Wohl wird natürlich gesorgt.
URL:https://gemeinschaftswerk-mannheim.de/event/herbstmarkt-im-lehrgarten/
ORGANIZER;CN="Gemeinschaftswerk Arbeit und Umwelt e.V. Mannheim":MAILTO:info@gemeinschaftswerk-mannheim.de
END:VEVENT
BEGIN:VEVENT
DTSTART;TZID=Europe/Berlin:20250524T110000
DTEND;TZID=Europe/Berlin:20250524T123000
DTSTAMP:20260425T193350
CREATED:20250228T200821Z
LAST-MODIFIED:20250228T200821Z
UID:10000013-1748084400-1748089800@gemeinschaftswerk-mannheim.de
SUMMARY:Führung zum Tag der Artenvielfalt
DESCRIPTION:Beim Tag der Artenvielfalt können wir Bestehendes aber auch Neues erkunden und erfahren. Ab 10.00 Uhr ist der Garten geöffnet. Die Führung beginnt um 11.00 Uhr (Dauer ca. 90 min.) und wird zum Thema „Der Lehrgarten im Wandel“ stattfinden.
URL:https://gemeinschaftswerk-mannheim.de/event/fuehrung-zum-tag-der-artenvielfalt/
ORGANIZER;CN="Gemeinschaftswerk Arbeit und Umwelt e.V. Mannheim":MAILTO:info@gemeinschaftswerk-mannheim.de
END:VEVENT
END:VCALENDAR