BEGIN:VCALENDAR
VERSION:2.0
PRODID:-//Gemeinschaftswerk Arbeit und Umwelt - ECPv6.15.20//NONSGML v1.0//EN
CALSCALE:GREGORIAN
METHOD:PUBLISH
X-WR-CALNAME:Gemeinschaftswerk Arbeit und Umwelt
X-ORIGINAL-URL:https://gemeinschaftswerk-mannheim.de
X-WR-CALDESC:Veranstaltungen für Gemeinschaftswerk Arbeit und Umwelt
REFRESH-INTERVAL;VALUE=DURATION:PT1H
X-Robots-Tag:noindex
X-PUBLISHED-TTL:PT1H
BEGIN:VTIMEZONE
TZID:Europe/Berlin
BEGIN:DAYLIGHT
TZOFFSETFROM:+0100
TZOFFSETTO:+0200
TZNAME:CEST
DTSTART:20250330T010000
END:DAYLIGHT
BEGIN:STANDARD
TZOFFSETFROM:+0200
TZOFFSETTO:+0100
TZNAME:CET
DTSTART:20251026T010000
END:STANDARD
BEGIN:DAYLIGHT
TZOFFSETFROM:+0100
TZOFFSETTO:+0200
TZNAME:CEST
DTSTART:20260329T010000
END:DAYLIGHT
BEGIN:STANDARD
TZOFFSETFROM:+0200
TZOFFSETTO:+0100
TZNAME:CET
DTSTART:20261025T010000
END:STANDARD
BEGIN:DAYLIGHT
TZOFFSETFROM:+0100
TZOFFSETTO:+0200
TZNAME:CEST
DTSTART:20270328T010000
END:DAYLIGHT
BEGIN:STANDARD
TZOFFSETFROM:+0200
TZOFFSETTO:+0100
TZNAME:CET
DTSTART:20271031T010000
END:STANDARD
END:VTIMEZONE
BEGIN:VEVENT
DTSTART;TZID=Europe/Berlin:20260611T100000
DTEND;TZID=Europe/Berlin:20260611T153000
DTSTAMP:20260425T223638
CREATED:20250228T201341Z
LAST-MODIFIED:20251124T090937Z
UID:10000016-1781172000-1781191800@gemeinschaftswerk-mannheim.de
SUMMARY:Pflanzendoktor
DESCRIPTION:Sprechstunde des Pflanzendoktors:\nDer langjährige Leiter des Lehrgartens Agraringenieur Werner Meier-Büermann gibt Ratschläge zur Behandlung erkrankter Pflanzen\, Tipps zu Pflanzung und Pflege.
URL:https://gemeinschaftswerk-mannheim.de/event/pflanzendoktor-3/
ORGANIZER;CN="Gemeinschaftswerk Arbeit und Umwelt e.V. Mannheim":MAILTO:info@gemeinschaftswerk-mannheim.de
END:VEVENT
BEGIN:VEVENT
DTSTART;TZID=Europe/Berlin:20260613T100000
DTEND;TZID=Europe/Berlin:20260613T170000
DTSTAMP:20260425T223638
CREATED:20250228T201614Z
LAST-MODIFIED:20251201T091139Z
UID:10000017-1781344800-1781370000@gemeinschaftswerk-mannheim.de
SUMMARY:Botanik- und Kräuterausbildung Teil 5
DESCRIPTION:Kursleitung: Markus Schrade\nAnmeldung und weiter Informationen: https://www.kräuterwanderung-mannheim.de
URL:https://gemeinschaftswerk-mannheim.de/event/botanik-und-kraeuterausbildung-teil-6/
ORGANIZER;CN="Gemeinschaftswerk Arbeit und Umwelt e.V. Mannheim":MAILTO:info@gemeinschaftswerk-mannheim.de
END:VEVENT
BEGIN:VEVENT
DTSTART;TZID=Europe/Berlin:20260614T100000
DTEND;TZID=Europe/Berlin:20260614T170000
DTSTAMP:20260425T223638
CREATED:20251124T101258Z
LAST-MODIFIED:20251201T091045Z
UID:10000033-1781431200-1781456400@gemeinschaftswerk-mannheim.de
SUMMARY:Botanik- und Kräuterausbildung Teil 6
DESCRIPTION:Kursleitung: Markus Schrade\nAnmeldung und weiter Informationen: https://www.kräuterwanderung-mannheim.de
URL:https://gemeinschaftswerk-mannheim.de/event/botanik-und-kraeuterausbildung-teil-6-2/
ORGANIZER;CN="Gemeinschaftswerk Arbeit und Umwelt e.V. Mannheim":MAILTO:info@gemeinschaftswerk-mannheim.de
END:VEVENT
BEGIN:VEVENT
DTSTART;TZID=Europe/Berlin:20260626T153000
DTEND;TZID=Europe/Berlin:20260626T173000
DTSTAMP:20260425T223638
CREATED:20250228T201822Z
LAST-MODIFIED:20251124T092205Z
UID:10000019-1782487800-1782495000@gemeinschaftswerk-mannheim.de
SUMMARY:Café Garten
DESCRIPTION:Das Lehrgarten-Team lädt ein zu einem entspannten Wochenausklang in angenehmer Gartenatmosphäre bei Kaffee und Kuchen und einem musikalischen Sahnehäubchen
URL:https://gemeinschaftswerk-mannheim.de/event/cafe-garten/
ORGANIZER;CN="Gemeinschaftswerk Arbeit und Umwelt e.V. Mannheim":MAILTO:info@gemeinschaftswerk-mannheim.de
END:VEVENT
END:VCALENDAR