BEGIN:VCALENDAR
VERSION:2.0
PRODID:-//Gemeinschaftswerk Arbeit und Umwelt - ECPv6.15.20//NONSGML v1.0//EN
CALSCALE:GREGORIAN
METHOD:PUBLISH
X-WR-CALNAME:Gemeinschaftswerk Arbeit und Umwelt
X-ORIGINAL-URL:https://gemeinschaftswerk-mannheim.de
X-WR-CALDESC:Veranstaltungen für Gemeinschaftswerk Arbeit und Umwelt
REFRESH-INTERVAL;VALUE=DURATION:PT1H
X-Robots-Tag:noindex
X-PUBLISHED-TTL:PT1H
BEGIN:VTIMEZONE
TZID:Europe/Berlin
BEGIN:DAYLIGHT
TZOFFSETFROM:+0100
TZOFFSETTO:+0200
TZNAME:CEST
DTSTART:20250330T010000
END:DAYLIGHT
BEGIN:STANDARD
TZOFFSETFROM:+0200
TZOFFSETTO:+0100
TZNAME:CET
DTSTART:20251026T010000
END:STANDARD
BEGIN:DAYLIGHT
TZOFFSETFROM:+0100
TZOFFSETTO:+0200
TZNAME:CEST
DTSTART:20260329T010000
END:DAYLIGHT
BEGIN:STANDARD
TZOFFSETFROM:+0200
TZOFFSETTO:+0100
TZNAME:CET
DTSTART:20261025T010000
END:STANDARD
BEGIN:DAYLIGHT
TZOFFSETFROM:+0100
TZOFFSETTO:+0200
TZNAME:CEST
DTSTART:20270328T010000
END:DAYLIGHT
BEGIN:STANDARD
TZOFFSETFROM:+0200
TZOFFSETTO:+0100
TZNAME:CET
DTSTART:20271031T010000
END:STANDARD
END:VTIMEZONE
BEGIN:VEVENT
DTSTART;TZID=Europe/Berlin:20260711T100000
DTEND;TZID=Europe/Berlin:20260711T170000
DTSTAMP:20260426T001054
CREATED:20251124T101447Z
LAST-MODIFIED:20251124T101447Z
UID:10000034-1783764000-1783789200@gemeinschaftswerk-mannheim.de
SUMMARY:Botanik- und Kräuterausbildung Teil 7
DESCRIPTION:Kursleitung: Markus Schrade\nAnmeldung und weiter Informationen: https://www.kräuterwanderung-mannheim.de
URL:https://gemeinschaftswerk-mannheim.de/event/botanik-und-kraeuterausbildung-teil-7-2/
ORGANIZER;CN="Gemeinschaftswerk Arbeit und Umwelt e.V. Mannheim":MAILTO:info@gemeinschaftswerk-mannheim.de
END:VEVENT
BEGIN:VEVENT
DTSTART;TZID=Europe/Berlin:20260712T100000
DTEND;TZID=Europe/Berlin:20260712T170000
DTSTAMP:20260426T001054
CREATED:20251124T101555Z
LAST-MODIFIED:20251124T101555Z
UID:10000035-1783850400-1783875600@gemeinschaftswerk-mannheim.de
SUMMARY:Botanik- und Kräuterausbildung Teil 8
DESCRIPTION:Kursleitung: Markus Schrade\nAnmeldung und weiter Informationen: https://www.kräuterwanderung-mannheim.de
URL:https://gemeinschaftswerk-mannheim.de/event/botanik-und-kraeuterausbildung-teil-8-2/
ORGANIZER;CN="Gemeinschaftswerk Arbeit und Umwelt e.V. Mannheim":MAILTO:info@gemeinschaftswerk-mannheim.de
END:VEVENT
BEGIN:VEVENT
DTSTART;TZID=Europe/Berlin:20260719T100000
DTEND;TZID=Europe/Berlin:20260719T123000
DTSTAMP:20260426T001054
CREATED:20250228T201917Z
LAST-MODIFIED:20251124T092035Z
UID:10000020-1784455200-1784464200@gemeinschaftswerk-mannheim.de
SUMMARY:Kräuterführung Nr. 3
DESCRIPTION:Kursleitung: Markus Schrade\nAnmeldung und weiter Informationen: https://www.kräuterwanderung-mannheim.de
URL:https://gemeinschaftswerk-mannheim.de/event/kraeuterfuehrung-nr-3/
ORGANIZER;CN="Gemeinschaftswerk Arbeit und Umwelt e.V. Mannheim":MAILTO:info@gemeinschaftswerk-mannheim.de
END:VEVENT
BEGIN:VEVENT
DTSTART;TZID=Europe/Berlin:20260724T153000
DTEND;TZID=Europe/Berlin:20260724T173000
DTSTAMP:20260426T001054
CREATED:20250228T202055Z
LAST-MODIFIED:20251124T091939Z
UID:10000021-1784907000-1784914200@gemeinschaftswerk-mannheim.de
SUMMARY:Café-Garten
DESCRIPTION:Das Lehrgarten-Team lädt ein zu einem entspannten Wochenausklang in angenehmer Gartenatmosphäre bei Kaffee und Kuchen und einem musikalischen Sahnehäubchen. \n  \n 
URL:https://gemeinschaftswerk-mannheim.de/event/cafe-garten-2/
ORGANIZER;CN="Gemeinschaftswerk Arbeit und Umwelt e.V. Mannheim":MAILTO:info@gemeinschaftswerk-mannheim.de
END:VEVENT
END:VCALENDAR