BEGIN:VCALENDAR
VERSION:2.0
PRODID:-//Gemeinschaftswerk Arbeit und Umwelt - ECPv6.15.20//NONSGML v1.0//EN
CALSCALE:GREGORIAN
METHOD:PUBLISH
X-ORIGINAL-URL:https://gemeinschaftswerk-mannheim.de
X-WR-CALDESC:Veranstaltungen für Gemeinschaftswerk Arbeit und Umwelt
REFRESH-INTERVAL;VALUE=DURATION:PT1H
X-Robots-Tag:noindex
X-PUBLISHED-TTL:PT1H
BEGIN:VTIMEZONE
TZID:Europe/Berlin
BEGIN:DAYLIGHT
TZOFFSETFROM:+0100
TZOFFSETTO:+0200
TZNAME:CEST
DTSTART:20250330T010000
END:DAYLIGHT
BEGIN:STANDARD
TZOFFSETFROM:+0200
TZOFFSETTO:+0100
TZNAME:CET
DTSTART:20251026T010000
END:STANDARD
BEGIN:DAYLIGHT
TZOFFSETFROM:+0100
TZOFFSETTO:+0200
TZNAME:CEST
DTSTART:20260329T010000
END:DAYLIGHT
BEGIN:STANDARD
TZOFFSETFROM:+0200
TZOFFSETTO:+0100
TZNAME:CET
DTSTART:20261025T010000
END:STANDARD
BEGIN:DAYLIGHT
TZOFFSETFROM:+0100
TZOFFSETTO:+0200
TZNAME:CEST
DTSTART:20270328T010000
END:DAYLIGHT
BEGIN:STANDARD
TZOFFSETFROM:+0200
TZOFFSETTO:+0100
TZNAME:CET
DTSTART:20271031T010000
END:STANDARD
END:VTIMEZONE
BEGIN:VEVENT
DTSTART;TZID=Europe/Berlin:20260903T100000
DTEND;TZID=Europe/Berlin:20260903T153000
DTSTAMP:20260426T032414
CREATED:20251124T101842Z
LAST-MODIFIED:20251124T101842Z
UID:10000036-1788429600-1788449400@gemeinschaftswerk-mannheim.de
SUMMARY:Pflanzendoktor
DESCRIPTION:Sprechstunde des Pflanzendoktors\nDer langjährige Leiter des Lehrgartens Agraringenieur Werner Meier-Büermann gibt Ratschläge zur Behandlung erkrankter Pflanzen\, Tipps zu Pflanzung und Pflege.
URL:https://gemeinschaftswerk-mannheim.de/event/pflanzendoktor-5/
ORGANIZER;CN="Gemeinschaftswerk Arbeit und Umwelt e.V. Mannheim":MAILTO:info@gemeinschaftswerk-mannheim.de
END:VEVENT
BEGIN:VEVENT
DTSTART;TZID=Europe/Berlin:20260912T100000
DTEND;TZID=Europe/Berlin:20260912T170000
DTSTAMP:20260426T032414
CREATED:20251124T102517Z
LAST-MODIFIED:20251124T102517Z
UID:10000037-1789207200-1789232400@gemeinschaftswerk-mannheim.de
SUMMARY:Flechten mit Binsen und Gräsern - Workshop
DESCRIPTION:Kursleitung: Cara Schwab\nAnmeldung und weitere Informationen: handflechterei [at] gmail [dot] com
URL:https://gemeinschaftswerk-mannheim.de/event/flechten-mit-binsen-und-graesern-workshop/
ORGANIZER;CN="Gemeinschaftswerk Arbeit und Umwelt e.V. Mannheim":MAILTO:info@gemeinschaftswerk-mannheim.de
END:VEVENT
BEGIN:VEVENT
DTSTART;TZID=Europe/Berlin:20260920T140000
DTEND;TZID=Europe/Berlin:20260920T163000
DTSTAMP:20260426T032415
CREATED:20250228T202826Z
LAST-MODIFIED:20251124T091615Z
UID:10000026-1789912800-1789921800@gemeinschaftswerk-mannheim.de
SUMMARY:Kräuterführung Nr. 4
DESCRIPTION:Kursleitung: Markus Schrade\nAnmeldung und weiter Informationen: https://www.kräuterwanderung-mannheim.de
URL:https://gemeinschaftswerk-mannheim.de/event/kraeuterfuehrung-nr-4/
ORGANIZER;CN="Gemeinschaftswerk Arbeit und Umwelt e.V. Mannheim":MAILTO:info@gemeinschaftswerk-mannheim.de
END:VEVENT
END:VCALENDAR